{ "currentVersion": 11.2, "serviceDescription": "
The Study Area Survey Measurements Mosaic Dataset is a collection of bathymetry and backscatter rasters compiled from numerous site-specific, field-oriented studies in the Outer Continental Shelf (OCS). The studies are fully or partially funded by BOEM, an agency within the U.S. Department of the Interior. They consist of sand resource reconnaissance surveys, sand placement surveys, research on baseline benthic ecological conditions, and environmental impact investigations pertaining to the potential effects of dredging operations on the physical, chemical, and biological environment. These data span several decades of published research and were collected and processed using a variety of instruments and software. Please refer to individual raster attributes and the associated study report(s) for details related to data acquisition and processing. This dataset will be updated regularly as new and existing data are incorporated into the Marine Minerals Information System (MMIS) geodatabase. Area covered: U.S. OCS (primarily 3nm to 12nm offshore). Each raster in this mosaic is stored in its native projection. The rasters are projected into NAD83 on the fly by the MMIS WebViewer. Should a user export a raster from the database, or download it through the viewer, the downloaded file will be in the native projection.<\/span><\/p><\/div><\/div><\/div>",
"name": "MMP/StudyAreaRasters",
"description": " The Study Area Survey Measurements Mosaic Dataset is a collection of bathymetry and backscatter rasters compiled from numerous site-specific, field-oriented studies in the Outer Continental Shelf (OCS). The studies are fully or partially funded by BOEM, an agency within the U.S. Department of the Interior. They consist of sand resource reconnaissance surveys, sand placement surveys, research on baseline benthic ecological conditions, and environmental impact investigations pertaining to the potential effects of dredging operations on the physical, chemical, and biological environment. These data span several decades of published research and were collected and processed using a variety of instruments and software. Please refer to individual raster attributes and the associated study report(s) for details related to data acquisition and processing. This dataset will be updated regularly as new and existing data are incorporated into the Marine Minerals Information System (MMIS) geodatabase. Area covered: U.S. OCS (primarily 3nm to 12nm offshore). Each raster in this mosaic is stored in its native projection. The rasters are projected into NAD83 on the fly by the MMIS WebViewer. Should a user export a raster from the database, or download it through the viewer, the downloaded file will be in the native projection.<\/span><\/p><\/div><\/div><\/div>",
"extent": {
"xmin": -1.91484897882E7,
"ymin": -4594555.424401628,
"xmax": -5278115.332664052,
"ymax": 5443189.043899998,
"spatialReference": {
"wkid": 102100,
"latestWkid": 3857
}
},
"initialExtent": {
"xmin": -1.91484897882E7,
"ymin": -4594555.424401628,
"xmax": -5278115.332664052,
"ymax": 5443189.043899998,
"spatialReference": {
"wkid": 102100,
"latestWkid": 3857
}
},
"fullExtent": {
"xmin": -1.91484897882E7,
"ymin": -4594555.424401628,
"xmax": -5278115.332664052,
"ymax": 5443189.043899998,
"spatialReference": {
"wkid": 102100,
"latestWkid": 3857
}
},
"sortableFields": "MinPS,MaxPS,LowPS,HighPS,CenterX,CenterY,ZOrder,Shape.STArea(),Shape.STLength(),Start,End_,Resolution",
"bandCount": 1,
"pixelType": "F64",
"minValues": [
-141.5198974609375
],
"maxValues": [
318.7878112792969
],
"meanValues": [
74.60224142423095
],
"stdvValues": [
53.109696684877356
],
"hasMultidimensions": false,
"pixelSizeX": 0.06096012199999999,
"pixelSizeY": 0.060960122,
"meanPixelSize": 0.06096012199999999,
"datasetFormat": "AMD",
"uncompressedSize": 299724782292328176,
"blockWidth": 2048,
"blockHeight": 256,
"compressionType": "None",
"bandNames": [
"Band_1"
],
"allowCopy": true,
"allowAnalysis": true,
"itemAccess": false,
"inspectionCapabilities": "",
"minPixelSize": 0,
"maxPixelSize": 0,
"copyrightText": "Bureau of Ocean Energy Management, Marine Minerals Program ",
"serviceDataType": "esriImageServiceDataTypeGeneric",
"serviceSourceType": "esriImageServiceSourceTypeMosaicDataset",
"objectIdField": "OBJECTID",
"fields": [
{
"name": "OBJECTID",
"type": "esriFieldTypeOID",
"alias": "OBJECTID",
"domain": null
},
{
"name": "Name",
"type": "esriFieldTypeString",
"alias": "Name",
"domain": null,
"length": 200
},
{
"name": "MinPS",
"type": "esriFieldTypeDouble",
"alias": "MinPS",
"domain": null
},
{
"name": "MaxPS",
"type": "esriFieldTypeDouble",
"alias": "MaxPS",
"domain": null
},
{
"name": "LowPS",
"type": "esriFieldTypeDouble",
"alias": "LowPS",
"domain": null
},
{
"name": "HighPS",
"type": "esriFieldTypeDouble",
"alias": "HighPS",
"domain": null
},
{
"name": "Category",
"type": "esriFieldTypeInteger",
"alias": "Category",
"domain": {
"type": "codedValue",
"name": "MosaicCatalogItemCategoryDomain",
"description": "Catalog item categories.",
"codedValues": [
{
"name": "Unknown",
"code": 0
},
{
"name": "Primary",
"code": 1
},
{
"name": "Overview",
"code": 2
},
{
"name": "Unprocessed Overview",
"code": 3
},
{
"name": "Partial Overview",
"code": 4
},
{
"name": "Inactive",
"code": 5
},
{
"name": "Uploaded",
"code": 253
},
{
"name": "Incomplete",
"code": 254
},
{
"name": "Custom",
"code": 255
}
],
"mergePolicy": "esriMPTDefaultValue",
"splitPolicy": "esriSPTDefaultValue"
}
},
{
"name": "Tag",
"type": "esriFieldTypeString",
"alias": "Tag",
"domain": null,
"length": 100
},
{
"name": "GroupName",
"type": "esriFieldTypeString",
"alias": "GroupName",
"domain": null,
"length": 100
},
{
"name": "ProductName",
"type": "esriFieldTypeString",
"alias": "ProductName",
"domain": null,
"length": 100
},
{
"name": "CenterX",
"type": "esriFieldTypeDouble",
"alias": "CenterX",
"domain": null
},
{
"name": "CenterY",
"type": "esriFieldTypeDouble",
"alias": "CenterY",
"domain": null
},
{
"name": "ZOrder",
"type": "esriFieldTypeInteger",
"alias": "ZOrder",
"domain": null
},
{
"name": "Shape",
"type": "esriFieldTypeGeometry",
"alias": "Shape",
"domain": null
},
{
"name": "Start",
"type": "esriFieldTypeInteger",
"alias": "Start Survey Date",
"domain": null
},
{
"name": "End_",
"type": "esriFieldTypeInteger",
"alias": "End Survey Date",
"domain": null
},
{
"name": "PixelValue",
"type": "esriFieldTypeString",
"alias": "Pixel Value",
"domain": {
"type": "codedValue",
"name": "PixelValue",
"description": "Pixel value",
"codedValues": [
{
"name": "Bathymetry",
"code": "Bathymetry"
},
{
"name": "Backscatter (Grayscale)",
"code": "Backscatter (Grayscale)"
},
{
"name": "Backscatter (Decibels)",
"code": "Backscatter (Decibels)"
}
],
"mergePolicy": "esriMPTDefaultValue",
"splitPolicy": "esriSPTDefaultValue"
},
"length": 30
},
{
"name": "Units",
"type": "esriFieldTypeString",
"alias": "Units",
"domain": {
"type": "codedValue",
"name": "UnitsStudyAreaRasters",
"description": "Units study area rasters",
"codedValues": [
{
"name": "Meters",
"code": "Meters"
},
{
"name": "Feet",
"code": "Feet"
},
{
"name": "Other",
"code": "Other"
}
],
"mergePolicy": "esriMPTDefaultValue",
"splitPolicy": "esriSPTDefaultValue"
},
"length": 10
},
{
"name": "Datum",
"type": "esriFieldTypeString",
"alias": "Datum",
"domain": null,
"length": 10
},
{
"name": "Resolution",
"type": "esriFieldTypeDouble",
"alias": "Resolution",
"domain": null
},
{
"name": "StudyID",
"type": "esriFieldTypeString",
"alias": "StudyID",
"domain": null,
"length": 250
},
{
"name": "Originator",
"type": "esriFieldTypeString",
"alias": "Originator",
"domain": null,
"length": 250
},
{
"name": "SupplementalInfo",
"type": "esriFieldTypeString",
"alias": "Supplemental Info",
"domain": null,
"length": 4000
},
{
"name": "MetaFile",
"type": "esriFieldTypeString",
"alias": "Metadata Filename",
"domain": null,
"length": 250
},
{
"name": "Constraints",
"type": "esriFieldTypeString",
"alias": "Constraints",
"domain": {
"type": "codedValue",
"name": "Constraints",
"description": "AccessConstraints",
"codedValues": [
{
"name": "Public",
"code": "Public"
},
{
"name": "Not Public",
"code": "Not Public"
}
],
"mergePolicy": "esriMPTDefaultValue",
"splitPolicy": "esriSPTDefaultValue"
},
"length": 15
},
{
"name": "CoordSystem",
"type": "esriFieldTypeString",
"alias": "Original Coordinate System",
"domain": null,
"length": 100
},
{
"name": "BeginSurveyDate_text",
"type": "esriFieldTypeString",
"alias": "Begin Survey Date",
"domain": null,
"length": 8
},
{
"name": "EndSurveyDate_text",
"type": "esriFieldTypeString",
"alias": "End Survey Date",
"domain": null,
"length": 8
},
{
"name": "Shape.STArea()",
"type": "esriFieldTypeDouble",
"alias": "Shape.STArea()",
"domain": null
},
{
"name": "Shape.STLength()",
"type": "esriFieldTypeDouble",
"alias": "Shape.STLength()",
"domain": null
}
],
"capabilities": "Catalog,Mensuration,Pixels,Download,Image,Metadata",
"defaultMosaicMethod": "Northwest",
"allowedMosaicMethods": "NorthWest,Center,LockRaster,ByAttribute,Nadir,Viewpoint,Seamline,None",
"sortField": "",
"sortValue": null,
"sortAscending": true,
"mosaicOperator": "First",
"maxDownloadSizeLimit": 2048,
"defaultCompressionQuality": 75,
"defaultResamplingMethod": "Bilinear",
"maxImageHeight": 1000000,
"maxImageWidth": 1000000,
"maxRecordCount": 500,
"maxDownloadImageCount": 5,
"maxMosaicImageCount": 500,
"allowRasterFunction": true,
"rasterFunctionInfos": [
{
"name": "None",
"description": "",
"help": ""
}
],
"rasterTypeInfos": [
{
"name": "Raster Dataset",
"description": "Supports all ArcGIS Raster Datasets",
"help": ""
}
],
"mensurationCapabilities": "Basic",
"hasHistograms": true,
"hasColormap": false,
"hasRasterAttributeTable": false,
"minScale": 0,
"maxScale": 0,
"exportTilesAllowed": false,
"supportsStatistics": true,
"supportsAdvancedQueries": true,
"editFieldsInfo": null,
"ownershipBasedAccessControlForRasters": null,
"allowComputeTiePoints": false,
"useStandardizedQueries": true,
"advancedQueryCapabilities": {
"useStandardizedQueries": true,
"supportsStatistics": true,
"supportsOrderBy": true,
"supportsDistinct": true,
"supportsPagination": true
},
"spatialReference": {
"wkid": 102100,
"latestWkid": 3857
},
"resampling": false
}