View In:
ArcGIS JavaScript
ArcGIS Online Map Viewer
ArcGIS Earth
Service Description: The Study Area Survey Measurements Mosaic Dataset is a collection of bathymetry and backscatter rasters compiled from numerous site-specific, field-oriented studies in the Outer Continental Shelf (OCS). The studies are fully or partially funded by BOEM, an agency within the U.S. Department of the Interior. They consist of sand resource reconnaissance surveys, sand placement surveys, research on baseline benthic ecological conditions, and environmental impact investigations pertaining to the potential effects of dredging operations on the physical, chemical, and biological environment. These data span several decades of published research and were collected and processed using a variety of instruments and software. Please refer to individual raster attributes and the associated study report(s) for details related to data acquisition and processing. This dataset will be updated regularly as new and existing data are incorporated into the Marine Minerals Information System (MMIS) geodatabase. Area covered: U.S. OCS (primarily 3nm to 12nm offshore). Each raster in this mosaic is stored in its native projection. The rasters are projected into NAD83 on the fly by the MMIS WebViewer. Should a user export a raster from the database, or download it through the viewer, the downloaded file will be in the native projection.
Name: MMP/StudyAreaRasters
Description: The Study Area Survey Measurements Mosaic Dataset is a collection of bathymetry and backscatter rasters compiled from numerous site-specific, field-oriented studies in the Outer Continental Shelf (OCS). The studies are fully or partially funded by BOEM, an agency within the U.S. Department of the Interior. They consist of sand resource reconnaissance surveys, sand placement surveys, research on baseline benthic ecological conditions, and environmental impact investigations pertaining to the potential effects of dredging operations on the physical, chemical, and biological environment. These data span several decades of published research and were collected and processed using a variety of instruments and software. Please refer to individual raster attributes and the associated study report(s) for details related to data acquisition and processing. This dataset will be updated regularly as new and existing data are incorporated into the Marine Minerals Information System (MMIS) geodatabase. Area covered: U.S. OCS (primarily 3nm to 12nm offshore). Each raster in this mosaic is stored in its native projection. The rasters are projected into NAD83 on the fly by the MMIS WebViewer. Should a user export a raster from the database, or download it through the viewer, the downloaded file will be in the native projection.
Single Fused Map Cache: false
Extent:
XMin: -1.91484897882E7
YMin: -4594555.424401628
XMax: -5278115.332664052
YMax: 5443189.043899998
Spatial Reference: 102100
(3857)
LatestVCSWkid(0)
Initial Extent:
XMin: -1.91484897882E7
YMin: -4594555.424401628
XMax: -5278115.332664052
YMax: 5443189.043899998
Spatial Reference: 102100
(3857)
LatestVCSWkid(0)
Full Extent:
XMin: -1.91484897882E7
YMin: -4594555.424401628
XMax: -5278115.332664052
YMax: 5443189.043899998
Spatial Reference: 102100
(3857)
LatestVCSWkid(0)
Pixel Size X: 0.06096012199999999
Pixel Size Y: 0.060960122
Band Count: 1
Pixel Type: F64
RasterFunction Infos: {"rasterFunctionInfos": [{
"name": "None",
"description": "",
"help": ""
}]}
Mensuration Capabilities: Basic
Inspection Capabilities:
Has Histograms: true
Has Colormap: false
Has Multi Dimensions : false
Rendering Rule:
Min Scale: 0
Max Scale: 0
Resampling: false
Copyright Text: Bureau of Ocean Energy Management, Marine Minerals Program
Service Data Type: esriImageServiceDataTypeGeneric
Min Values: -141.5198974609375
Max Values: 318.7878112792969
Mean Values: 74.60224142423095
Standard Deviation Values: 53.109696684877356
Object ID Field: OBJECTID
Fields:
-
OBJECTID
(
type: esriFieldTypeOID, alias: OBJECTID
)
-
Name
(
type: esriFieldTypeString, alias: Name, length: 200
)
-
MinPS
(
type: esriFieldTypeDouble, alias: MinPS
)
-
MaxPS
(
type: esriFieldTypeDouble, alias: MaxPS
)
-
LowPS
(
type: esriFieldTypeDouble, alias: LowPS
)
-
HighPS
(
type: esriFieldTypeDouble, alias: HighPS
)
-
Category
(
type: esriFieldTypeInteger, alias: Category
, Coded Values:
[0: Unknown]
, [1: Primary]
, [2: Overview]
, ...6 more...
)
-
Tag
(
type: esriFieldTypeString, alias: Tag, length: 100
)
-
GroupName
(
type: esriFieldTypeString, alias: GroupName, length: 100
)
-
ProductName
(
type: esriFieldTypeString, alias: ProductName, length: 100
)
-
CenterX
(
type: esriFieldTypeDouble, alias: CenterX
)
-
CenterY
(
type: esriFieldTypeDouble, alias: CenterY
)
-
ZOrder
(
type: esriFieldTypeInteger, alias: ZOrder
)
-
Shape
(
type: esriFieldTypeGeometry, alias: Shape
)
-
Start
(
type: esriFieldTypeInteger, alias: Start Survey Date
)
-
End_
(
type: esriFieldTypeInteger, alias: End Survey Date
)
-
PixelValue
(
type: esriFieldTypeString, alias: Pixel Value, length: 30
, Coded Values:
[Bathymetry: Bathymetry]
, [Backscatter (Grayscale): Backscatter (Grayscale)]
, [Backscatter (Decibels): Backscatter (Decibels)]
)
-
Units
(
type: esriFieldTypeString, alias: Units, length: 10
, Coded Values:
[Meters: Meters]
, [Feet: Feet]
, [Other: Other]
)
-
Datum
(
type: esriFieldTypeString, alias: Datum, length: 10
)
-
Resolution
(
type: esriFieldTypeDouble, alias: Resolution
)
-
StudyID
(
type: esriFieldTypeString, alias: StudyID, length: 250
)
-
Originator
(
type: esriFieldTypeString, alias: Originator, length: 250
)
-
SupplementalInfo
(
type: esriFieldTypeString, alias: Supplemental Info, length: 4000
)
-
MetaFile
(
type: esriFieldTypeString, alias: Metadata Filename, length: 250
)
-
Constraints
(
type: esriFieldTypeString, alias: Constraints, length: 15
, Coded Values:
[Public: Public]
, [Not Public: Not Public]
)
-
CoordSystem
(
type: esriFieldTypeString, alias: Original Coordinate System, length: 100
)
-
BeginSurveyDate_text
(
type: esriFieldTypeString, alias: Begin Survey Date, length: 8
)
-
EndSurveyDate_text
(
type: esriFieldTypeString, alias: End Survey Date, length: 8
)
-
Shape.STArea()
(
type: esriFieldTypeDouble, alias: Shape.STArea()
)
-
Shape.STLength()
(
type: esriFieldTypeDouble, alias: Shape.STLength()
)
Default Mosaic Method: Northwest
Allowed Mosaic Methods: NorthWest,Center,LockRaster,ByAttribute,Nadir,Viewpoint,Seamline,None
SortField:
SortValue: null
Mosaic Operator: First
Default Compression Quality: 75
Default Resampling Method: Bilinear
Max Record Count: 500
Max Image Height: 1000000
Max Image Width: 1000000
Max Download Image Count: 5
Max Mosaic Image Count: 500
Allow Raster Function: true
Allow Copy: true
Allow Analysis: true
Allow Compute TiePoints: false
Supports Statistics: true
Supports Advanced Queries: true
Use StandardizedQueries: true
Raster Type Infos:
Name: Raster Dataset
Description: Supports all ArcGIS Raster Datasets
Help:
Has Raster Attribute Table: false
Edit Fields Info: null
Ownership Based AccessControl For Rasters: null
Child Resources:
Info
Histograms
Statistics
Key Properties
Legend
Raster Function Infos
Supported Operations:
Export Image
Query
Identify
Download Rasters
Get Image Url
Measure
Compute Histograms
Compute Statistics Histograms
Get Samples
Compute Class Statistics
Query GPS Info
Find Images
Image to Map
Map to Image
Measure from Image
Image to Map Multiray
Query Boundary
Compute Pixel Location
Compute Angles
Validate
Project